BEGIN:VCALENDAR
VERSION:2.0
PRODID:-//Tukios.com/
BEGIN:VEVENT
UID:fc514c14-1cb7-4ff9-9610-80b8bc2f5394@www.mcmahansfuneralhome.com
DTSTAMP:20260421T010130Z
DTSTART:20260516T180000Z
DTEND:20260516T190000Z
SUMMARY:Memorial Service
DESCRIPTION:
URL:https://www.mcmahansfuneralhome.com/obituaries/dr-willis-archer
LOCATION: 246 North Main Street  Rutherfordton NC 28139
GEO:35.3696333;-81.9564136
END:VEVENT
END:VCALENDAR