BEGIN:VCALENDAR
VERSION:2.0
PRODID:-//Tukios.com/
BEGIN:VEVENT
UID:46e2bc60-4321-441a-a005-75dbf99331f1@www.mcmahansfuneralhome.com
DTSTAMP:20260421T010156Z
DTSTART:20260516
SUMMARY:Visitation Following Service in the Fellowship Hall
DESCRIPTION:
URL:https://www.mcmahansfuneralhome.com/obituaries/dr-willis-archer
LOCATION: 246 North Main Street  Rutherfordton NC 28139
GEO:35.3696333;-81.9564136
END:VEVENT
END:VCALENDAR