BEGIN:VCALENDAR
VERSION:2.0
PRODID:-//Tukios.com/
BEGIN:VEVENT
UID:f7ccd509-73d5-4240-9f8f-713a410593a6@www.mcmahansfuneralhome.com
DTSTAMP:20260421T010130Z
DTSTART:20260425T180000Z
DTEND:20260425T190000Z
SUMMARY:Memorial Service
DESCRIPTION:
URL:https://www.mcmahansfuneralhome.com/obituaries/jane-horn-cline
LOCATION: 246 North Main Street  Rutherfordton NC 28139
GEO:35.3696333;-81.9564136
END:VEVENT
END:VCALENDAR